BEGIN:VCALENDAR
VERSION:2.0
PRODID:DPCALENDAR
CALSCALE:GREGORIAN
X-WR-TIMEZONE:UTC
BEGIN:VEVENT
DTSTART;TZID=UTC:20181225T110000
DTEND;TZID=UTC:20181225T120000
UID:2FF45222-5DEB-4965-A950-41EC20263DF1
SUMMARY:Karácsony ünnepi Úrvacsorás istentisztelet
CREATED:20181208T171328Z
DTSTAMP:20181208T171328Z
URL:https://www.hungarianreformedchurchdc.org/index.php/hu/teszt/karacsony-uennepi-urvacsoras-istentisztelet
LAST-MODIFIED:20181208T230338Z
SEQUENCE:21010
LOCATION:4500 Massachusetts Avenue NW\, Washington DC\, 20016
GEO:38.93981320;-77.08958120
X-LOCATION-DISPLAYNAME:Wesley Szeminárium Oxnam kápolna
X-ACCESS:1
X-HITS:22
X-COLOR:399c30
X-SHOW-END-TIME:0
END:VEVENT
BEGIN:VEVENT
DTSTART;TZID=UTC:20190127T110000
DTEND;TZID=UTC:20190127T120000
UID:45C07DC7-1D26-469D-B901-6D88F946DE8F
SUMMARY:Újévi istentisztelet
CREATED:20181208T171402Z
DTSTAMP:20181208T171402Z
URL:https://www.hungarianreformedchurchdc.org/index.php/hu/teszt/ujevi-istentisztelet
LAST-MODIFIED:20181208T230347Z
SEQUENCE:20985
LOCATION:4500 Massachusetts Avenue NW\, Washington DC\, 20016
GEO:38.93981320;-77.08958120
X-LOCATION-DISPLAYNAME:Wesley Szeminárium Oxnam kápolna
X-ACCESS:1
X-HITS:17
X-COLOR:399c30
X-SHOW-END-TIME:0
END:VEVENT
BEGIN:VEVENT
DTSTART;TZID=UTC:20200126T110000
DTEND;TZID=UTC:20200126T120000
UID:17998CB4-7018-4E45-A692-6296797C33DA
SUMMARY:Ökumenikus istentisztelet
CREATED:20200319T034525Z
DTSTAMP:20200319T034525Z
URL:https://www.hungarianreformedchurchdc.org/index.php/hu/teszt/oekumenikus-istentisztelet
LAST-MODIFIED:20200319T034552Z
SEQUENCE:27
X-ACCESS:1
X-HITS:11
X-COLOR:ffffff
X-SHOW-END-TIME:1
END:VEVENT
BEGIN:VEVENT
DTSTART;TZID=UTC:20200223T110000
DTEND;TZID=UTC:20200223T120000
UID:7F75B0E5-FEDA-4611-83A6-C4AD3F07B7FA
SUMMARY:Istentisztelet
CREATED:20200319T033705Z
DTSTAMP:20200319T033705Z
URL:https://www.hungarianreformedchurchdc.org/index.php/hu/teszt/istentisztelet
X-ACCESS:1
X-HITS:5
X-COLOR:e2e6f0
X-SHOW-END-TIME:1
END:VEVENT
BEGIN:VEVENT
DTSTART;TZID=UTC:20200322T110000
DTEND;TZID=UTC:20200322T120000
UID:636651A5-800C-464A-8C7F-5A42DE082CB5
SUMMARY:Márciusi istentisztelet ELMARAD
CREATED:20200319T033527Z
DTSTAMP:20200319T033527Z
URL:https://www.hungarianreformedchurchdc.org/index.php/hu/teszt/marciusi-istentisztelet-elmarad
DESCRIPTION:Az igehirdetés meghallgatható a Prédikációk menüpont alatt.
X-ALT-DESC;FMTTYPE=text/html:<p>Az igehirdetés meghallgatható a Prédikációk menüpont alatt.</p>
LAST-MODIFIED:20200322T163238Z
SEQUENCE:305831
X-ACCESS:1
X-HITS:8
X-COLOR:e00909
X-SHOW-END-TIME:0
END:VEVENT
BEGIN:VEVENT
DTSTART;TZID=UTC:20200327T190000
DTEND;TZID=UTC:20200327T200000
UID:6F948F07-EA44-44AA-8882-CFAF13153E43
SUMMARY:Online Bibliaóra
CREATED:20200325T130313Z
DTSTAMP:20200325T130313Z
URL:https://www.hungarianreformedchurchdc.org/index.php/hu/teszt/online-bibliaora
LAST-MODIFIED:20200325T130903Z
SEQUENCE:350
X-ACCESS:1
X-HITS:6
X-COLOR:ffffff
X-SHOW-END-TIME:0
END:VEVENT
BEGIN:VEVENT
DTSTART;TZID=UTC:20200410T180000
DTEND;TZID=UTC:20200410T190000
UID:3782B3E5-10DA-488D-B4E4-73CCFDD6EA72
SUMMARY:Passió
CREATED:20200405T131317Z
DTSTAMP:20200405T131317Z
URL:https://www.hungarianreformedchurchdc.org/index.php/hu/teszt/passio
DESCRIPTION:A Passió-áhítat hanganyaga elérhető lesz a gyülekezet honlapján és Facebook oldalán.\NKérjük a kedves testvéreket, hogy lehetőség szerint pénteken este 6 órakor indítsák el a felvételt, hogy együtt, egy időben hallgathassuk azt. A felvétel természetesen később is visszahallgatható lesz a honlapon.
X-ALT-DESC;FMTTYPE=text/html:<p style="text-align: justify;">A Passió-áhítat hanganyaga elérhető lesz a gyülekezet honlapján és Facebook oldalán.</p>\N<p style="text-align: justify;">Kérjük a kedves testvéreket, hogy lehetőség szerint pénteken este 6 órakor indítsák el a felvételt, hogy együtt, egy időben hallgathassuk azt. A felvétel természetesen később is visszahallgatható lesz a honlapon.</p>
LAST-MODIFIED:20200405T131639Z
SEQUENCE:202
X-ACCESS:1
X-HITS:11
X-COLOR:399c30
X-SHOW-END-TIME:0
END:VEVENT
BEGIN:VEVENT
DTSTART;TZID=UTC:20200412T110000
DTEND;TZID=UTC:20200412T120000
UID:F4D11528-1375-435C-9351-370FD6804D50
SUMMARY:Húsvéti úrvacsorás istentisztelet
CREATED:20200405T132736Z
DTSTAMP:20200405T132736Z
URL:https://www.hungarianreformedchurchdc.org/index.php/hu/teszt/husveti-urvacsoras-istentisztelet-2
DESCRIPTION:A húsvéti igehirdetés és az úrvacsorai liturgia elérhető lesz a gyülekezet honlapján és Facebook oldalán.\NKérjük a kedves testvéreket, hogy a felvétel indítása előtt készítsék elő a kenyeret és a bort, hogy a liturgia megfelelő pontján magukhoz vehessék az úrvacsorai jegyeket!\NLehetőség szerint vasárnap 11 órakor indítsuk el a felvételt, amit természetesen később is megtalálhatunk a honlapon.\N 
X-ALT-DESC;FMTTYPE=text/html:<p>A húsvéti igehirdetés és az úrvacsorai liturgia elérhető lesz a gyülekezet honlapján és Facebook oldalán.</p>\N<p>Kérjük a kedves testvéreket, hogy a felvétel indítása előtt készítsék elő a kenyeret és a bort, hogy a liturgia megfelelő pontján magukhoz vehessék az úrvacsorai jegyeket!</p>\N<p>Lehetőség szerint vasárnap 11 órakor indítsuk el a felvételt, amit természetesen később is megtalálhatunk a honlapon.</p>\N<p> </p>
LAST-MODIFIED:20200418T140939Z
SEQUENCE:1125723
LOCATION:Ellipse Road Northwest\, Washington\, D.C. 20500
GEO:38.89489320;-77.03655290
X-LOCATION-DISPLAYNAME:United States of America, Washington, D.C., Washington, D.C., 20500
X-ACCESS:1
X-HITS:22
X-COLOR:399c30
X-SHOW-END-TIME:0
END:VEVENT
BEGIN:VEVENT
DTSTART;TZID=UTC:20200507T180000
DTEND;TZID=UTC:20200507T190000
UID:5D60B13B-E38E-4E4A-BE70-01EBE860EE19
SUMMARY:Online bibliaóra
CREATED:20200430T235515Z
DTSTAMP:20200430T235515Z
URL:https://www.hungarianreformedchurchdc.org/index.php/hu/teszt/online-bibliaora-2
LAST-MODIFIED:20210327T154512Z
SEQUENCE:28568997
X-ACCESS:1
X-HITS:47
X-COLOR:399c30
X-SHOW-END-TIME:0
END:VEVENT
BEGIN:VEVENT
DTSTART;TZID=UTC:20200510T110000
DTEND;TZID=UTC:20200510T113000
UID:BFFC9D07-394D-4475-811B-8B323607C0A4
SUMMARY:Istentisztelet
CREATED:20200424T130321Z
DTSTAMP:20200424T130321Z
URL:https://www.hungarianreformedchurchdc.org/index.php/hu/teszt/istentisztelet-2
LAST-MODIFIED:20200429T122518Z
SEQUENCE:429717
LOCATION:Ellipse Road Northwest\, Washington\, D.C. 20500
GEO:38.89489320;-77.03655290
X-LOCATION-DISPLAYNAME:United States of America, Washington, D.C., Washington, D.C., 20500
X-ACCESS:1
X-HITS:10
X-COLOR:399c30
X-SHOW-END-TIME:0
END:VEVENT
BEGIN:VEVENT
DTSTART;TZID=UTC:20200521T110000
DTEND;TZID=UTC:20200521T113000
UID:6115606F-14C8-419A-BADC-5161D4D3F777
SUMMARY:Áldozó-csütörtöki áhítat
CREATED:20200424T130740Z
DTSTAMP:20200424T130740Z
URL:https://www.hungarianreformedchurchdc.org/index.php/hu/teszt/aldozocsuetoertoeki-ahitat
LAST-MODIFIED:20200429T122542Z
SEQUENCE:429482
X-ACCESS:1
X-HITS:7
X-COLOR:399c30
X-SHOW-END-TIME:0
END:VEVENT
BEGIN:VEVENT
DTSTART;TZID=UTC:20200531T110000
DTEND;TZID=UTC:20200531T113000
UID:C53A6EA8-2611-4BED-8AA8-FE87AA8D5700
SUMMARY:Pünkösdi úrvacsorás istentisztelet
CREATED:20200418T135013Z
DTSTAMP:20200418T135013Z
URL:https://www.hungarianreformedchurchdc.org/index.php/hu/teszt/punkosdi-urvacsoras-istentisztelet
LAST-MODIFIED:20200429T122556Z
SEQUENCE:945343
LOCATION:Ellipse Road Northwest\, Washington\, D.C. 20500
GEO:38.89489320;-77.03655290
X-LOCATION-DISPLAYNAME:United States of America, Washington, D.C., Washington, D.C., 20500
X-ACCESS:1
X-HITS:8
X-COLOR:399c30
X-SHOW-END-TIME:0
END:VEVENT
BEGIN:VEVENT
DTSTART;TZID=UTC:20200604T103000
DTEND;TZID=UTC:20200604T110000
UID:BAC31032-4AA2-4870-8EF5-7F35FBB9515B
SUMMARY:Emlékezés Trianonra
CREATED:20200603T215647Z
DTSTAMP:20200603T215647Z
URL:https://www.hungarianreformedchurchdc.org/index.php/hu/teszt/emlekezes-trianonra
DESCRIPTION:https://www.youtube.com/embed/9h8Nk0dEM38\NImádság nemzetünkért\NUram, Mindenható Istenem! Ha immár száz éve szétszakítottságban élő magyar nemzetemre gondolok, én is csak azt tudom mondani, amit a zsoltáros: "Hatalmas a te karod, kezed erős, jobbod felséges" (Zsolt 89,14). Hatalmas sebeket kapott népünk, amputálták, de mégis élünk, még mindig itt vagyunk. Uram, ez egyedül a te kegyelmed bizonyítéka. Kegyelmedé, mely fájdalmainknaál is hatalmasabb. Köszönöm, Uram, hogy ennyire fontosak vagyunk neked. Áldd meg, Uram, a magyart, és add, hogy szétszakítottságunk megtanítson minket az összefogás, az összetartozás értékelésére. Add, hogy bár más népek között élünk, megbecsüljük azt, akikké te teremtettél, és hálásak legyünk azért, amit ránk bíztál. Történelem Ura, elhelyeztél minket a gyönyörű Kárpát-medencében, de védelmet adó hajlékunk te voltál nemzedékről nemzedékre. Őrizz meg minket kegyelmedben, és újíts meg minket a hozzád való hűségben. Szabadíts meg minket a gyűlölködéstől, a széthúzástól, a csüggedéstől, a kapzsiságtól, hadd töltsük be szolgálatunkat: szeretnénk rólad bizonyságot tevő népként élni a minket körülvevők között. Add, Uram, hogy hasznos és megbecsült tagjai legyünk annak az országnak, melyben élünk. Újíts meg minket Szentlelked által Jézus Krisztusért, kegyelmes Atyánk. Ámen\N(Forrás: Zempléni Református Egyházmegye)
X-ALT-DESC;FMTTYPE=text/html:<p><a href="https://www.youtube.com/embed/9h8Nk0dEM38">https://www.youtube.com/embed/9h8Nk0dEM38</a></p>\N<h4>Imádság nemzetünkért</h4>\N<p style="text-align: justify;">Uram, Mindenható Istenem! <br />Ha immár száz éve szétszakítottságban élő magyar nemzetemre gondolok, én is csak azt tudom mondani, amit a zsoltáros: <em>"Hatalmas a te karod, kezed erős, jobbod felséges"</em> (Zsolt 89,14). Hatalmas sebeket kapott népünk, amputálták, de mégis élünk, még mindig itt vagyunk. Uram, ez egyedül a te kegyelmed bizonyítéka. Kegyelmedé, mely fájdalmainknaál is hatalmasabb. Köszönöm, Uram, hogy ennyire fontosak vagyunk neked. Áldd meg, Uram, a magyart, és add, hogy szétszakítottságunk megtanítson minket az összefogás, az összetartozás értékelésére. Add, hogy bár más népek között élünk, megbecsüljük azt, akikké te teremtettél, és hálásak legyünk azért, amit ránk bíztál. Történelem Ura, elhelyeztél minket a gyönyörű Kárpát-medencében, de védelmet adó hajlékunk te voltál nemzedékről nemzedékre. Őrizz meg minket kegyelmedben, és újíts meg minket a hozzád való hűségben. Szabadíts meg minket a gyűlölködéstől, a széthúzástól, a csüggedéstől, a kapzsiságtól, hadd töltsük be szolgálatunkat: szeretnénk rólad bizonyságot tevő népként élni a minket körülvevők között. Add, Uram, hogy hasznos és megbecsült tagjai legyünk annak az országnak, melyben élünk. Újíts meg minket Szentlelked által Jézus Krisztusért, kegyelmes Atyánk. Ámen</p>\N<p style="text-align: right;">(Forrás: Zempléni Református Egyházmegye)</p>
LAST-MODIFIED:20200603T215950Z
SEQUENCE:183
X-ACCESS:1
X-HITS:11
X-COLOR:399c30
X-SHOW-END-TIME:0
END:VEVENT
BEGIN:VEVENT
DTSTART;TZID=UTC:20200612T180000
DTEND;TZID=UTC:20200612T200000
UID:00B4A793-20B8-4450-BED9-D350DCE8F681
SUMMARY:Online bibliaóra
CREATED:20200608T144454Z
DTSTAMP:20200608T144454Z
URL:https://www.hungarianreformedchurchdc.org/index.php/hu/teszt/online-bibliaora-3
LAST-MODIFIED:20210327T154451Z
SEQUENCE:25232397
X-ACCESS:1
X-HITS:7
X-COLOR:399c30
X-SHOW-END-TIME:0
END:VEVENT
BEGIN:VEVENT
DTSTART;TZID=UTC:20200628T110000
DTEND;TZID=UTC:20200628T120000
UID:7EA31664-7ED9-45FE-8DA2-177ACAC90030
SUMMARY:Online istentisztelet
CREATED:20200608T144637Z
DTSTAMP:20200608T144637Z
URL:https://www.hungarianreformedchurchdc.org/index.php/hu/teszt/istentisztelet-3
LAST-MODIFIED:20210327T154437Z
SEQUENCE:25232280
X-ACCESS:1
X-HITS:10
X-COLOR:399c30
X-SHOW-END-TIME:0
END:VEVENT
BEGIN:VEVENT
DTSTART;TZID=UTC:20200719T150000
DTEND;TZID=UTC:20200719T160000
UID:C51842DA-B2F0-48AD-ABA8-CAF2B172CA6C
SUMMARY:Júliusi istentisztelet
CREATED:20200628T071930Z
DTSTAMP:20200628T071930Z
URL:https://www.hungarianreformedchurchdc.org/index.php/hu/teszt/juliusi-istentisztelet
LAST-MODIFIED:20200628T072424Z
SEQUENCE:294
LOCATION:4101  Nebraska Ave NW\, Washington\, DC \, 20016
GEO:38.94210970;-77.08098860
X-LOCATION-DISPLAYNAME:National Presbyterian Church
X-ACCESS:1
X-HITS:8
X-COLOR:399c30
X-SHOW-END-TIME:0
END:VEVENT
BEGIN:VEVENT
DTSTART;TZID=UTC:20200807T180000
DTEND;TZID=UTC:20200807T190000
UID:F3B9C0B6-9098-4E2F-9BB5-58678BE9E53A
SUMMARY:Online bibliaóra
CREATED:20200809T122100Z
DTSTAMP:20200809T122100Z
URL:https://www.hungarianreformedchurchdc.org/index.php/hu/teszt/online-bibliaora-4
LAST-MODIFIED:20210327T154415Z
SEQUENCE:19884195
X-ACCESS:1
X-HITS:2
X-COLOR:399c30
X-SHOW-END-TIME:0
END:VEVENT
BEGIN:VEVENT
DTSTART;TZID=UTC:20200823T230000
DTEND;TZID=UTC:20200823T233000
UID:42C4BD81-CE2E-4CBA-A449-A87690B7C35C
SUMMARY:Istentisztelet
CREATED:20200809T122210Z
DTSTAMP:20200809T122210Z
URL:https://www.hungarianreformedchurchdc.org/index.php/hu/teszt/istentisztelet-4
LAST-MODIFIED:20200809T122255Z
SEQUENCE:45
X-ACCESS:1
X-HITS:2
X-COLOR:399c30
X-SHOW-END-TIME:0
END:VEVENT
BEGIN:VEVENT
DTSTART;TZID=UTC:20200904T180000
DTEND;TZID=UTC:20200904T190000
UID:7739D392-BBEF-4996-8FB9-EBDCF55E9B73
SUMMARY:Online bibliaóra
CREATED:20200913T150107Z
DTSTAMP:20200913T150107Z
URL:https://www.hungarianreformedchurchdc.org/index.php/hu/teszt/online-bibliaora-4
LAST-MODIFIED:20210327T154358Z
SEQUENCE:16850571
X-ACCESS:1
X-HITS:0
X-COLOR:399c30
X-SHOW-END-TIME:0
END:VEVENT
BEGIN:VEVENT
DTSTART;TZID=UTC:20200913T150000
DTEND;TZID=UTC:20200913T160000
UID:67BB99B0-F80C-452D-9ED4-3295BCE5C6CE
SUMMARY:Filmklub
CREATED:20200913T145802Z
DTSTAMP:20200913T145802Z
URL:https://www.hungarianreformedchurchdc.org/index.php/hu/teszt/filmklub
LAST-MODIFIED:20200913T150425Z
SEQUENCE:383
X-ACCESS:1
X-HITS:4
X-COLOR:399c30
X-SHOW-END-TIME:0
END:VEVENT
BEGIN:VEVENT
DTSTART;TZID=UTC:20200918T180000
DTEND;TZID=UTC:20200918T190000
UID:08759569-8219-45E6-87BA-9862A10DA125
SUMMARY:Virginiai bibliaóra
CREATED:20200913T150209Z
DTSTAMP:20200913T150209Z
URL:https://www.hungarianreformedchurchdc.org/index.php/hu/teszt/virginiai-bibliaora
LAST-MODIFIED:20210327T154345Z
SEQUENCE:16850496
X-ACCESS:1
X-HITS:6
X-COLOR:399c30
X-SHOW-END-TIME:0
END:VEVENT
BEGIN:VEVENT
DTSTART;TZID=UTC:20200927T110000
DTEND;TZID=UTC:20200927T120000
UID:5871906B-CE80-4DBF-822F-081FF281097B
SUMMARY:Istentisztelet
CREATED:20200913T145849Z
DTSTAMP:20200913T145849Z
URL:https://www.hungarianreformedchurchdc.org/index.php/hu/teszt/istentisztelet-5
LAST-MODIFIED:20200913T150453Z
SEQUENCE:364
X-ACCESS:1
X-HITS:4
X-COLOR:399c30
X-SHOW-END-TIME:0
END:VEVENT
BEGIN:VEVENT
DTSTART;TZID=UTC:20200927T150000
DTEND;TZID=UTC:20200927T160000
UID:DBF5FEEB-FE83-4FA6-AC90-25BE80DBA1A1
SUMMARY:Fiatal felnőttek bibliaórája
CREATED:20200913T150311Z
DTSTAMP:20200913T150311Z
URL:https://www.hungarianreformedchurchdc.org/index.php/hu/teszt/fiatal-felnottek-bibliaoraja
LAST-MODIFIED:20200923T134459Z
SEQUENCE:859308
X-ACCESS:1
X-HITS:5
X-COLOR:399c30
X-SHOW-END-TIME:0
END:VEVENT
BEGIN:VEVENT
DTSTART;TZID=UTC:20201023T180000
DTEND;TZID=UTC:20201023T190000
UID:F550FE11-7B40-4D60-982D-F97D714FC796
SUMMARY:Virginiai bibliaóra
CREATED:20201004T151620Z
DTSTAMP:20201004T151620Z
URL:https://www.hungarianreformedchurchdc.org/index.php/hu/teszt/virginiai-bibliaora-2
LAST-MODIFIED:20210327T154325Z
SEQUENCE:15035225
X-ACCESS:1
X-HITS:4
X-COLOR:399c30
X-SHOW-END-TIME:0
END:VEVENT
BEGIN:VEVENT
DTSTART;TZID=UTC:20201025T110000
DTEND;TZID=UTC:20201025T120000
UID:EF250847-FF90-4332-8A76-025AB192E54E
SUMMARY:Istentisztelet
CREATED:20201004T151534Z
DTSTAMP:20201004T151534Z
URL:https://www.hungarianreformedchurchdc.org/index.php/hu/teszt/istentisztelet-6
X-ACCESS:1
X-HITS:7
X-COLOR:399c30
X-SHOW-END-TIME:0
END:VEVENT
BEGIN:VEVENT
DTSTART;TZID=UTC:20201101T160000
DTEND;TZID=UTC:20201101T170000
UID:0A0E071C-43BF-4F0A-A7BF-B4DCF4D65322
SUMMARY:Filmklub
CREATED:20201029T211212Z
DTSTAMP:20201029T211212Z
URL:https://www.hungarianreformedchurchdc.org/index.php/hu/teszt/filmklub-2
X-ACCESS:1
X-HITS:3
X-COLOR:399c30
X-SHOW-END-TIME:0
END:VEVENT
BEGIN:VEVENT
DTSTART;TZID=UTC:20201106T180000
DTEND;TZID=UTC:20201106T190000
UID:430F9F21-6068-4479-BA2D-47DCF8C7C7D0
SUMMARY:Online bibliaóra
CREATED:20201029T211256Z
DTSTAMP:20201029T211256Z
URL:https://www.hungarianreformedchurchdc.org/index.php/hu/teszt/online-bibliaora-5
LAST-MODIFIED:20210327T154247Z
SEQUENCE:12853791
X-ACCESS:1
X-HITS:1
X-COLOR:399c30
X-SHOW-END-TIME:0
END:VEVENT
BEGIN:VEVENT
DTSTART;TZID=UTC:20201120T180000
DTEND;TZID=UTC:20201120T190000
UID:1A282F96-4BD9-4A0B-A18A-EB708A155283
SUMMARY:Virginiai bibliaóra
CREATED:20201029T211331Z
DTSTAMP:20201029T211331Z
URL:https://www.hungarianreformedchurchdc.org/index.php/hu/teszt/virginiai-bibliaora-3
LAST-MODIFIED:20210327T154301Z
SEQUENCE:12853770
X-ACCESS:1
X-HITS:8
X-COLOR:399c30
X-SHOW-END-TIME:0
END:VEVENT
BEGIN:VEVENT
DTSTART;TZID=UTC:20201122T110000
DTEND;TZID=UTC:20201122T120000
UID:DCBB6A93-66D7-4D27-93DB-DCAC086422A8
SUMMARY:Istentisztelet
CREATED:20201029T211407Z
DTSTAMP:20201029T211407Z
URL:https://www.hungarianreformedchurchdc.org/index.php/hu/teszt/istentisztelet-7
X-ACCESS:1
X-HITS:8
X-COLOR:399c30
X-SHOW-END-TIME:0
END:VEVENT
BEGIN:VEVENT
DTSTART;TZID=UTC:20201204T180000
DTEND;TZID=UTC:20201204T190000
UID:400B0DA7-2F2E-490D-94B4-278A4F9ABE88
SUMMARY:Online bibliaóra
CREATED:20200913T150107Z
DTSTAMP:20200913T150107Z
URL:https://www.hungarianreformedchurchdc.org/index.php/hu/teszt/online-bibliaora-4
LAST-MODIFIED:20201203T093421Z
SEQUENCE:6978794
X-ACCESS:1
X-HITS:0
X-COLOR:399c30
X-SHOW-END-TIME:0
END:VEVENT
BEGIN:VEVENT
DTSTART;TZID=UTC:20201211T180000
DTEND;TZID=UTC:20201211T190000
UID:2E99690E-0C1D-457B-8142-8AFF638E9AC2
SUMMARY:Virginiai bibliaóra
CREATED:20201203T020023Z
DTSTAMP:20201203T020023Z
URL:https://www.hungarianreformedchurchdc.org/index.php/hu/teszt/virginiai-bibliaora-4
LAST-MODIFIED:20201203T093433Z
SEQUENCE:27250
X-ACCESS:1
X-HITS:4
X-COLOR:399c30
X-SHOW-END-TIME:0
END:VEVENT
BEGIN:VEVENT
DTSTART;TZID=UTC:20201225T110000
DTEND;TZID=UTC:20201225T120000
UID:729460F8-7791-423B-BD79-CFE5600290E4
SUMMARY:Karácsonyi istentisztelet
CREATED:20201203T021101Z
DTSTAMP:20201203T021101Z
URL:https://www.hungarianreformedchurchdc.org/index.php/hu/teszt/karacsonyi-istentisztelet
LOCATION:128 South Spring Street\, Falls Church\, Virginia 22046
GEO:38.88686000;-77.18387700
X-LOCATION-DISPLAYNAME:Cserkészház
X-ACCESS:1
X-HITS:1
X-COLOR:399c30
X-SHOW-END-TIME:0
END:VEVENT
BEGIN:VEVENT
DTSTART;TZID=UTC:20210105T180000
DTEND;TZID=UTC:20210105T190000
UID:70E9172C-1570-491B-BF32-CB59C746F2CB
SUMMARY:Presbiteri gyűlés (Zoom)
CREATED:20210401T122513Z
DTSTAMP:20210401T122513Z
URL:https://www.hungarianreformedchurchdc.org/index.php/hu/teszt/presbiteri-gyules-zoom-2
X-ACCESS:1
X-HITS:7
X-COLOR:399c30
X-SHOW-END-TIME:0
END:VEVENT
BEGIN:VEVENT
DTSTART;TZID=UTC:20210116T170000
DTEND;TZID=UTC:20210116T180000
UID:0F38F31C-E69A-4F74-A214-EA8600CB0BC6
SUMMARY:Virginiai bibliaóra
CREATED:20210117T155945Z
DTSTAMP:20210117T155945Z
URL:https://www.hungarianreformedchurchdc.org/index.php/hu/teszt/virginiai-bibliaora-5
LAST-MODIFIED:20210327T154204Z
SEQUENCE:5960539
X-ACCESS:1
X-HITS:4
X-COLOR:399c30
X-SHOW-END-TIME:0
END:VEVENT
BEGIN:VEVENT
DTSTART;TZID=UTC:20210117T143000
DTEND;TZID=UTC:20210117T153000
UID:AC0504E4-E1B8-4B1B-BB81-8C39A8295301
SUMMARY:Ökumenikus istentisztelet
CREATED:20210117T155757Z
DTSTAMP:20210117T155757Z
URL:https://www.hungarianreformedchurchdc.org/index.php/hu/teszt/oekumenikus-istentisztelet-2
X-ACCESS:1
X-HITS:2
X-COLOR:399c30
X-SHOW-END-TIME:0
END:VEVENT
BEGIN:VEVENT
DTSTART;TZID=UTC:20210124T110000
DTEND;TZID=UTC:20210124T120000
UID:70DAD008-DB43-4DC7-AB20-0BF3A7B13040
SUMMARY:Istentisztelet
CREATED:20210117T155848Z
DTSTAMP:20210117T155848Z
URL:https://www.hungarianreformedchurchdc.org/index.php/hu/teszt/istentisztelet-8
LOCATION:128 South Spring Street\, Falls Church\, Virginia 22046
GEO:38.88686000;-77.18387700
X-LOCATION-DISPLAYNAME:Cserkészház
X-ACCESS:1
X-HITS:12
X-COLOR:399c30
X-SHOW-END-TIME:0
END:VEVENT
BEGIN:VEVENT
DTSTART;TZID=UTC:20210202T180000
DTEND;TZID=UTC:20210202T190000
UID:E6186122-5D4B-47A2-B403-091CEF18FD49
SUMMARY:Presbiteri gyűlés (Zoom)
CREATED:20210401T122427Z
DTSTAMP:20210401T122427Z
URL:https://www.hungarianreformedchurchdc.org/index.php/hu/teszt/presbiteri-gyules-zoom
X-ACCESS:1
X-HITS:1
X-COLOR:399c30
X-SHOW-END-TIME:0
END:VEVENT
BEGIN:VEVENT
DTSTART;TZID=UTC:20210205T180000
DTEND;TZID=UTC:20210205T190000
UID:C7579D07-75FB-4DCC-9413-EAE99601A265
SUMMARY:Online bibliaóra
CREATED:20210117T160118Z
DTSTAMP:20210117T160118Z
URL:https://www.hungarianreformedchurchdc.org/index.php/hu/teszt/zoom-bibliaora
LAST-MODIFIED:20210327T154141Z
SEQUENCE:5960423
X-ACCESS:1
X-HITS:3
X-COLOR:399c30
X-SHOW-END-TIME:0
END:VEVENT
BEGIN:VEVENT
DTSTART;TZID=UTC:20210216T180000
DTEND;TZID=UTC:20210216T190000
UID:142C3062-0209-4B6E-A367-0BB7B8DC773C
SUMMARY:Online előadás
CREATED:20210327T153249Z
DTSTAMP:20210327T153249Z
URL:https://www.hungarianreformedchurchdc.org/index.php/hu/teszt/online-eloadas
X-ACCESS:1
X-HITS:1
X-COLOR:399c30
X-SHOW-END-TIME:0
END:VEVENT
BEGIN:VEVENT
DTSTART;TZID=UTC:20210228T110000
DTEND;TZID=UTC:20210228T120000
UID:09766BC9-50B4-41AE-ABC5-0F7F373CF372
SUMMARY:Istentisztelet
CREATED:20210205T151715Z
DTSTAMP:20210205T151715Z
URL:https://www.hungarianreformedchurchdc.org/index.php/hu/teszt/istentisztelet-9
X-ACCESS:1
X-HITS:4
X-COLOR:399c30
X-SHOW-END-TIME:0
END:VEVENT
BEGIN:VEVENT
DTSTART;TZID=UTC:20210302T180000
DTEND;TZID=UTC:20210302T190000
UID:0D522092-4552-46AA-95BE-7F24709BCD2A
SUMMARY:Presbiteri gyűlés (Zoom)
CREATED:20210401T122054Z
DTSTAMP:20210401T122054Z
URL:https://www.hungarianreformedchurchdc.org/index.php/hu/teszt/presbitergyules-zoom-2
LAST-MODIFIED:20210401T122331Z
SEQUENCE:157
X-ACCESS:1
X-HITS:5
X-COLOR:399c30
X-SHOW-END-TIME:0
END:VEVENT
BEGIN:VEVENT
DTSTART;TZID=UTC:20210305T180000
DTEND;TZID=UTC:20210305T190000
UID:2661D165-A7A0-487E-9EEF-E3F7372C5D37
SUMMARY:Online bibliaóra
CREATED:20210327T153454Z
DTSTAMP:20210327T153454Z
URL:https://www.hungarianreformedchurchdc.org/index.php/hu/teszt/online-bibliaora-6
LAST-MODIFIED:20210327T154107Z
SEQUENCE:373
X-ACCESS:1
X-HITS:9
X-COLOR:399c30
X-SHOW-END-TIME:0
END:VEVENT
BEGIN:VEVENT
DTSTART;TZID=UTC:20210312T180000
DTEND;TZID=UTC:20210312T190000
UID:7430BE99-936A-4895-8728-6925F5EA0CDE
SUMMARY:Virginiai bibliaóra
CREATED:20210327T153604Z
DTSTAMP:20210327T153604Z
URL:https://www.hungarianreformedchurchdc.org/index.php/hu/teszt/virginiai-bibliaora-6
LAST-MODIFIED:20210327T154124Z
SEQUENCE:320
X-ACCESS:1
X-HITS:6
X-COLOR:399c30
X-SHOW-END-TIME:0
END:VEVENT
BEGIN:VEVENT
DTSTART;TZID=UTC:20210328T230000
DTEND;TZID=UTC:20210328T233000
UID:4B372D8E-E511-4EB1-A956-3BB5025A6877
SUMMARY:Online istentisztelet és közgyűlés
CREATED:20210327T153852Z
DTSTAMP:20210327T153852Z
URL:https://www.hungarianreformedchurchdc.org/index.php/hu/teszt/online-istentisztelet-es-koezgyules
X-ACCESS:1
X-HITS:3
X-COLOR:399c30
X-SHOW-END-TIME:0
END:VEVENT
BEGIN:VEVENT
DTSTART;TZID=UTC:20210402T190000
DTEND;TZID=UTC:20210402T200000
UID:5DB26D7A-2455-46A9-8CBC-6ACE22042DB9
SUMMARY:Nagypénteki áhitat (online)
CREATED:20210328T135146Z
DTSTAMP:20210328T135146Z
URL:https://www.hungarianreformedchurchdc.org/index.php/hu/teszt/nagypenteki-ahitat-online
LAST-MODIFIED:20210328T135409Z
SEQUENCE:143
X-ACCESS:1
X-HITS:8
X-COLOR:399c30
X-SHOW-END-TIME:0
END:VEVENT
BEGIN:VEVENT
DTSTART;TZID=UTC:20210404T110000
DTEND;TZID=UTC:20210404T120000
UID:C4D43133-1932-46F8-BFF0-36C75B5367D9
SUMMARY:Húsvéti úrvacsorás istentisztelet
CREATED:20210328T135721Z
DTSTAMP:20210328T135721Z
URL:https://www.hungarianreformedchurchdc.org/index.php/hu/teszt/husveti-urvacsoras-istentisztelet-4
LOCATION:128 South Spring Street\, Falls Church\, Virginia 22046
GEO:38.88686000;-77.18387700
X-LOCATION-DISPLAYNAME:Cserkészház
X-ACCESS:1
X-HITS:13
X-COLOR:399c30
X-SHOW-END-TIME:0
END:VEVENT
BEGIN:VEVENT
DTSTART;TZID=UTC:20210406T180000
DTEND;TZID=UTC:20210406T190000
UID:161825B4-7468-44D0-A70D-5299C1B53D1B
SUMMARY:Presbiteri gyűlés (Zoom)
CREATED:20210401T121839Z
DTSTAMP:20210401T121839Z
URL:https://www.hungarianreformedchurchdc.org/index.php/hu/teszt/presbitergyules-zoom
LAST-MODIFIED:20210401T122230Z
SEQUENCE:231
X-ACCESS:1
X-HITS:4
X-COLOR:399c30
X-SHOW-END-TIME:0
END:VEVENT
BEGIN:VEVENT
DTSTART;TZID=UTC:20210409T180000
DTEND;TZID=UTC:20210409T190000
UID:43DE9FDA-7989-499F-AAFD-223C4ECA6C37
SUMMARY:Online bibliaóra
CREATED:20210328T135812Z
DTSTAMP:20210328T135812Z
URL:https://www.hungarianreformedchurchdc.org/index.php/hu/teszt/online-bibliaora-7
LAST-MODIFIED:20210401T121901Z
SEQUENCE:339649
X-ACCESS:1
X-HITS:8
X-COLOR:399c30
X-SHOW-END-TIME:0
END:VEVENT
BEGIN:VEVENT
DTSTART;TZID=UTC:20210423T180000
DTEND;TZID=UTC:20210423T190000
UID:9973ACE5-EEE5-465E-8EE3-A45BCFF6FE15
SUMMARY:Virginiai bibliaóra
CREATED:20210328T135919Z
DTSTAMP:20210328T135919Z
URL:https://www.hungarianreformedchurchdc.org/index.php/hu/teszt/virginiai-bibliaora-7
X-ACCESS:1
X-HITS:1
X-COLOR:399c30
X-SHOW-END-TIME:0
END:VEVENT
BEGIN:VEVENT
DTSTART;TZID=UTC:20210425T110000
DTEND;TZID=UTC:20210425T120000
UID:EA9F63DC-D01E-47F2-8447-7FE490BC2352
SUMMARY:Istentisztelet
CREATED:20210328T140039Z
DTSTAMP:20210328T140039Z
URL:https://www.hungarianreformedchurchdc.org/index.php/hu/teszt/istentisztelet-10
LOCATION:128 South Spring Street\, Falls Church\, Virginia 22046
GEO:38.88686000;-77.18387700
X-LOCATION-DISPLAYNAME:Cserkészház
X-ACCESS:1
X-HITS:5
X-COLOR:399c30
X-SHOW-END-TIME:0
END:VEVENT
BEGIN:VEVENT
DTSTART;TZID=UTC:20210514T180000
DTEND;TZID=UTC:20210514T190000
UID:BE172BCE-7A5F-44C1-B47D-A8DE8AED82A7
SUMMARY:Online bibliaóra
CREATED:20210519T144105Z
DTSTAMP:20210519T144105Z
URL:https://www.hungarianreformedchurchdc.org/index.php/hu/teszt/online-bibliaora-8
X-ACCESS:1
X-HITS:3
X-COLOR:399c30
X-SHOW-END-TIME:0
END:VEVENT
BEGIN:VEVENT
DTSTART;TZID=UTC:20210521T180000
DTEND;TZID=UTC:20210521T190000
UID:CEC3AB6F-13D6-47B1-AED7-0A7F5E256723
SUMMARY:Virginiai bibliaóra
CREATED:20210519T144020Z
DTSTAMP:20210519T144020Z
URL:https://www.hungarianreformedchurchdc.org/index.php/hu/teszt/virginiai-bibliaora-8
X-ACCESS:1
X-HITS:4
X-COLOR:399c30
X-SHOW-END-TIME:0
END:VEVENT
BEGIN:VEVENT
DTSTART;TZID=UTC:20210523T110000
DTEND;TZID=UTC:20210523T120000
UID:B5736128-9E10-46E3-9B0F-F9A20D837B82
SUMMARY:Pünkösdi istentisztelet
CREATED:20210519T143934Z
DTSTAMP:20210519T143934Z
URL:https://www.hungarianreformedchurchdc.org/index.php/hu/teszt/puenkoesdi-istentisztelet
LAST-MODIFIED:20210519T144243Z
SEQUENCE:189
LOCATION:128 South Spring Street\, Falls Church\, Virginia 22046
GEO:38.88686000;-77.18387700
X-LOCATION-DISPLAYNAME:Cserkészház
X-ACCESS:1
X-HITS:4
X-COLOR:399c30
X-SHOW-END-TIME:0
END:VEVENT
BEGIN:VEVENT
DTSTART;TZID=UTC:20210627T110000
DTEND;TZID=UTC:20210627T120000
UID:FA83F1D2-C3BD-4EF5-9AE2-107FA8AF36D2
SUMMARY:Istentisztelet
CREATED:20210524T103751Z
DTSTAMP:20210524T103751Z
URL:https://www.hungarianreformedchurchdc.org/index.php/hu/teszt/istentisztelet-11
LAST-MODIFIED:20210524T104022Z
SEQUENCE:151
X-ACCESS:1
X-HITS:4
X-COLOR:399c30
X-SHOW-END-TIME:0
END:VEVENT
BEGIN:VEVENT
DTSTART;TZID=UTC:20210725T110000
DTEND;TZID=UTC:20210725T120000
UID:59383632-A6D9-499F-93DC-77411C208EB2
SUMMARY:Istentisztelet
CREATED:20210524T103912Z
DTSTAMP:20210524T103912Z
URL:https://www.hungarianreformedchurchdc.org/index.php/hu/teszt/istentisztelet-12
X-ACCESS:1
X-HITS:5
X-COLOR:399c30
X-SHOW-END-TIME:0
END:VEVENT
BEGIN:VEVENT
DTSTART;TZID=UTC:20210822T110000
DTEND;TZID=UTC:20210822T120000
UID:179383D2-BDE4-4D5C-AAA0-12CB5C0A59D1
SUMMARY:Istentisztelet
CREATED:20210524T104128Z
DTSTAMP:20210524T104128Z
URL:https://www.hungarianreformedchurchdc.org/index.php/hu/teszt/istentisztelet-13
X-ACCESS:1
X-HITS:1
X-COLOR:399c30
X-SHOW-END-TIME:0
END:VEVENT
END:VCALENDAR